BEGIN:VCALENDAR
VERSION:2.0
PRODID:-//SVP Wiesendangen //NONSGML Events //EN
CALSCALE:GREGORIAN
X-WR-CALNAME:SVP Wiesendangen
BEGIN:VEVENT
CREATED:20250108T080005Z
UID:2878
DTEND:20250207T190000
DTSTART:20250207T183000
DTSTAMP:20260421T130244Z
LOCATION:
DESCRIPTION:Armbrustschützenhaus, Turbenthal, mit Regierungsrat Ernst Stocker und
SUMMARY:Bezirk Winterthur / Turbenthal: SVP-Metzgete
ORGANIZER:
URL;VALUE=URI:https://www.svp-wiesendangen.ch/termine/bezirk-winterthur-turbenthal-svp-metzgete-2/
TRANSP:OPAQUE
END:VEVENT
END:VCALENDAR
