BEGIN:VCALENDAR
VERSION:2.0
PRODID:-//SVP Wiesendangen //NONSGML Events //EN
CALSCALE:GREGORIAN
X-WR-CALNAME:SVP Wiesendangen
BEGIN:VEVENT
CREATED:20260420T121630Z
UID:3212
DTEND:20260509T140000
DTSTART:20260509T100000
DTSTAMP:20260425T151140Z
LOCATION:
DESCRIPTION:Interessante Gespräche bei einer feinen Wurst.
Wir freuen uns auf Ihr
SUMMARY:SVP Grill-Anlass
ORGANIZER:
URL;VALUE=URI:https://www.svp-wiesendangen.ch/termine/svp-grill-anlass/
TRANSP:OPAQUE
END:VEVENT
END:VCALENDAR
